BEGIN:VCALENDAR
VERSION:2.0
PRODID:-//Beaufort Historic Site - ECPv6.15.17.1//NONSGML v1.0//EN
CALSCALE:GREGORIAN
METHOD:PUBLISH
X-WR-CALNAME:Beaufort Historic Site
X-ORIGINAL-URL:https://beauforthistoricsite.org
X-WR-CALDESC:Events for Beaufort Historic Site
REFRESH-INTERVAL;VALUE=DURATION:PT1H
X-Robots-Tag:noindex
X-PUBLISHED-TTL:PT1H
BEGIN:VTIMEZONE
TZID:UTC
BEGIN:STANDARD
TZOFFSETFROM:+0000
TZOFFSETTO:+0000
TZNAME:UTC
DTSTART:20240101T000000
END:STANDARD
END:VTIMEZONE
BEGIN:VEVENT
DTSTART;TZID=UTC:20251202T080000
DTEND;TZID=UTC:20251215T120000
DTSTAMP:20260421T183135
CREATED:20251202T163741Z
LAST-MODIFIED:20251202T163741Z
UID:31149-1764662400-1765800000@beauforthistoricsite.org
SUMMARY:Christmas Candlelight Silent Auction
DESCRIPTION:The fourth annual Beaufort Historical Association Christmas Candlelight Tour Silent Auction features a beautiful selection of holiday-themed items\, local artwork\, gift certificates\, and unique experiences donated by generous businesses and supporters. Guests can browse items and bid from now until Monday\, December 15th with all proceeds helping to support the Beaufort Historical Association’s programs and preservation efforts. It’s a festive way to find special gifts while giving back to the community! \n\nFor more information please contact the Beaufort Historic Site Welcome Center at 252-728-5225. \n\nThe auction will close on Monday\, December 15 at NOON. \n*** MUST BE 21 OR OVER TO BID ON OR PICK UP WINE AND SPIRIT ITEMS*** \n  \n\nVISIT AUCTION SITE HERE!
URL:https://beauforthistoricsite.org/event/christmas-candlelight-silent-auction/
CATEGORIES:Fundraising
ATTACH;FMTTYPE=image/png:https://beauforthistoricsite.org/wp-content/uploads/2024/12/Auction-Square.png
END:VEVENT
BEGIN:VEVENT
DTSTART;TZID=UTC:20251213T130000
DTEND;TZID=UTC:20251213T160000
DTSTAMP:20260421T183135
CREATED:20241204T152701Z
LAST-MODIFIED:20251113T181248Z
UID:29706-1765630800-1765641600@beauforthistoricsite.org
SUMMARY:Beaufort Holiday Art Walk
DESCRIPTION:Enjoy a festive afternoon in Historic Downtown Beaufort from 1–4 p.m.! Celebrate the season while exploring a wide variety of art by regional artists showcased throughout downtown shops\, galleries\, and restaurants. The Art Walk begins at The Beaufort Historic Site\, 130 Turner Street\, where the Mattie King Davis Art Gallery will feature the works of Lisa Tuchek\, Jimmy Craig Womble\, and Beth Roy. \nThis event is free and open to the public. For more information\, call 252-728-5225\, or stop by the Beaufort Historic Site Welcome Center at 130 Turner Street. \n  \nVIEW ART WALK MAP HERE!
URL:https://beauforthistoricsite.org/event/beaufort-holiday-art-walk-4/
CATEGORIES:MKD Art Gallery
END:VEVENT
BEGIN:VEVENT
DTSTART;TZID=UTC:20251213T170000
DTEND;TZID=UTC:20251213T200000
DTSTAMP:20260421T183135
CREATED:20241204T152808Z
LAST-MODIFIED:20251212T143630Z
UID:29708-1765645200-1765656000@beauforthistoricsite.org
SUMMARY:Historic Beaufort Candlelight Tour
DESCRIPTION:Local homeowners\, churches\, and inns will open their doors so the public can delight in their festive atmosphere and decorations. The Beaufort Historic Site buildings will also be open. Tickets are $25 (non-refundable). For more information visit www.beauforthistoricisite.org\, call 252-728-5225\, or stop in at the Beaufort Historic Site Welcome Center\, 130 Turner St. \nTICKETS ARE SOLD OUT.\nVIEW MAP HERE!\nBrowse Christmas Candlelight Tour Silent Auction Items HERE
URL:https://beauforthistoricsite.org/event/historic-beaufort-candlelight-tour/
CATEGORIES:Family Fun
END:VEVENT
END:VCALENDAR