BEGIN:VCALENDAR
VERSION:2.0
PRODID:-//Beaufort Historic Site - ECPv6.15.17.1//NONSGML v1.0//EN
CALSCALE:GREGORIAN
METHOD:PUBLISH
X-WR-CALNAME:Beaufort Historic Site
X-ORIGINAL-URL:https://beauforthistoricsite.org
X-WR-CALDESC:Events for Beaufort Historic Site
REFRESH-INTERVAL;VALUE=DURATION:PT1H
X-Robots-Tag:noindex
X-PUBLISHED-TTL:PT1H
BEGIN:VTIMEZONE
TZID:UTC
BEGIN:STANDARD
TZOFFSETFROM:+0000
TZOFFSETTO:+0000
TZNAME:UTC
DTSTART:20250101T000000
END:STANDARD
END:VTIMEZONE
BEGIN:VEVENT
DTSTART;TZID=UTC:20260210T100000
DTEND;TZID=UTC:20260210T110000
DTSTAMP:20260421T165838
CREATED:20251217T172244Z
LAST-MODIFIED:20251217T172244Z
UID:31372-1770717600-1770721200@beauforthistoricsite.org
SUMMARY:Felted Soap Workshop
DESCRIPTION:Join the Beaufort Historic Site in the Welcome Center on Tuesday\, February 10\, from 10 to 11 AM for a Felted Soap Workshop with Pat Tester\, part of the Living History Series. \nWhat is felt? How do you make felt? What is felt used for? \nIn Felting 101 we’ll have answers for your questions and more. We’ll explore the characteristics of different kinds of fiber that felt and some that don’t. We’ll take a short walk through the history of felt\, felting and the use of felted articles. The hands-on part of this short workshop will be felting a soap bar or two. This is a wet felting exercise\, so you’ll be asked to bring a dish pan sized plastic bowl (or smaller) and a bath towel/beach towel to cover your workspace. All other supplies will be provided. If you have a favorite bar of soap\, you may bring it\, but it should have round\, not square\, corners. \nCost: $15 \nInstructor: Pat Tester \nTo reserve a spot\, contact the Welcome Center at 130 Turner Street or call 252-728-5225.\n*Participants only*
URL:https://beauforthistoricsite.org/event/felted-soap-workshop/
LOCATION:Beaufort Historic Site\, 150 Turner Street\, Beaufort\, NC\, United States
CATEGORIES:Living History
ATTACH;FMTTYPE=image/png:https://beauforthistoricsite.org/wp-content/uploads/2025/12/Felted-Soap-Workshop.png
END:VEVENT
END:VCALENDAR