BEGIN:VCALENDAR
VERSION:2.0
PRODID:-//Beaufort Historic Site - ECPv6.15.17.1//NONSGML v1.0//EN
CALSCALE:GREGORIAN
METHOD:PUBLISH
X-ORIGINAL-URL:https://beauforthistoricsite.org
X-WR-CALDESC:Events for Beaufort Historic Site
REFRESH-INTERVAL;VALUE=DURATION:PT1H
X-Robots-Tag:noindex
X-PUBLISHED-TTL:PT1H
BEGIN:VTIMEZONE
TZID:UTC
BEGIN:STANDARD
TZOFFSETFROM:+0000
TZOFFSETTO:+0000
TZNAME:UTC
DTSTART:20220101T000000
END:STANDARD
END:VTIMEZONE
BEGIN:VEVENT
DTSTART;TZID=UTC:20231110T100000
DTEND;TZID=UTC:20231110T140000
DTSTAMP:20260423T100929
CREATED:20230308T171756Z
LAST-MODIFIED:20230329T180530Z
UID:26598-1699610400-1699624800@beauforthistoricsite.org
SUMMARY:Living History - Ornaments Workshop
DESCRIPTION:Create four different ornaments made from local materials. There is a limit of 8 people for this workshop led by Donna Haggerty. Please call (252)728-5225 to reserve your spot. Materials fee of $30.
URL:https://beauforthistoricsite.org/event/living-history-ornaments-workshop/
CATEGORIES:Living History,Volunteers
ATTACH;FMTTYPE=image/png:https://beauforthistoricsite.org/wp-content/uploads/2023/03/Ornament-Workshop-.png
END:VEVENT
END:VCALENDAR